BEGIN:VCALENDAR
VERSION:2.0
PRODID:-//ChamberMaster//Event Calendar 2.0//EN
METHOD:PUBLISH
X-PUBLISHED-TTL:P3D
REFRESH-INTERVAL:P3D
CALSCALE:GREGORIAN
BEGIN:VEVENT
DTSTART;VALUE=DATE:20221016
DTEND;VALUE=DATE:20221023
TRANSP:TRANSPARENT
X-MICROSOFT-CDO-ALLDAYEVENT:TRUE
SUMMARY:Texas Chamber of Commerce Week
DESCRIPTION:Celebrating the Diverse Culture and Heritage of the Wild\, Wild West!\n\n\n\nRoll into Andrews\, TX for the Wild\, Wild West Fest\, offering everyone a slice of pure Texas fun. The night skies will be filled with music and dancing under the stars to some of the best Texas Country and TexMex music in the Lone Star State! The weekend will be filled with some some of the most authentic Mexican food that our food trucks have to offer.  A Family Friendly event for all to enjoy!  Saturday night\, you won't want to miss in concert! There will be plenty of family activities\, from Goat Roping\, Petting Zoo and Cornhole tournament.  For the thrill seekers\, we'll have the Heart of America Carnival. And\, there will be plenty of shopping with over 50\,000 square feet of vendor booths\,  antique tractors and car shows. In addition\, we're rustlin' in the best cooks in these parts! Come take in the sights & smells of the Texas ShootOut BBQ Cook-off (CBA sanctioned  cook-off!) Bring your kids so they too can show their cooking skills\, The Kid's Q on Friday night with prizes they won't wanna miss out on!  And\, just so you don't feel guilty about eating all of that great food\, Saturday morning we'll host a 5K Walk/Run. So\, put on your running shoes and work up an appetite!   Admission is free!   Fri: 5PM   11:30PM   Sat: Noon   11:30 PM (Festival Doors)   Approx. 3 miles east of Andrews on Hwy 176 For more info\, call the Andrews Chamber at 432-523-2695.
X-ALT-DESC;FMTTYPE=text/html:<header class="entry-header" style="box-sizing: inherit\; transition: all 0.3s ease-in-out 0s\; padding: 72px 0px\; text-align: center\; color: rgb(34\, 34\, 34)\; font-family: &quot\;Gentium Book Basic&quot\;\, serif\; font-size: 32px\;">\n<h1 class="entry-title" style="box-sizing: inherit\; font-size: 24px\; margin: 0px auto\; clear: both\; transition: all 0.3s ease-in-out 0s\; max-width: 92%\; overflow-wrap: break-word\; width: 1040px\; font-style: italic\;">Celebrating the Diverse Culture and Heritage of the Wild\, Wild West!</h1>\n</header>\n\n<div class="entry-content" style="box-sizing: inherit\; margin-left: auto\; margin-right: auto\; max-width: 92%\; width: 740px\; font-size: 32px\; line-height: 1.8\; color: rgb(34\, 34\, 34)\; font-family: &quot\;Gentium Book Basic&quot\;\, serif\;">\n<p style="box-sizing: inherit\; margin: 0px 0px 1.8em\; text-align: center\;"><span style="font-size:10px\;">Roll into Andrews\, TX for the Wild\, Wild West Fest\, offering everyone a slice of pure Texas fun. The night skies will be filled with music and dancing under the stars to some of the best Texas Country and TexMex music in the Lone Star State! The weekend will be filled with some some of the most authentic Mexican food that our food trucks have to offer.&nbsp\; A Family Friendly event for all to enjoy!&nbsp\; Saturday night\, you won&rsquo\;t want to miss in concert! There will be plenty of family activities\, from Goat Roping\, Petting Zoo and Cornhole tournament.&nbsp\; For the thrill seekers\, we&rsquo\;ll have the Heart of America Carnival. And\, there will be plenty of shopping with over 50\,000 square feet of vendor booths\,&nbsp\; antique tractors and car shows. In addition\, we&rsquo\;re rustlin&rsquo\; in the best cooks in these parts! Come take in the sights &amp\; smells of the Texas ShootOut BBQ Cook-off (CBA sanctioned&nbsp\; cook-off!) Bring your kids so they too can show their cooking skills\, The Kid&rsquo\;s Q on Friday night with prizes they won&rsquo\;t wanna miss out on!&nbsp\; And\, just so you don&rsquo\;t feel guilty about eating all of that great food\, Saturday morning we&rsquo\;ll host a 5K Walk/Run. So\, put on your running shoes and work up an appetite! &bull\; Admission is free! &bull\; Fri: 5PM &ndash\; 11:30PM &bull\; Sat: Noon &ndash\; 11:30 PM (Festival Doors) &bull\; Approx. 3 miles east of Andrews on Hwy 176 For more info\, call the Andrews Chamber at 432-523-2695.</span></p>\n</div>\n
LOCATION:Ace Arena\, 1441 E Hwy 176\, Andrews\, TX 79714
UID:e.1898.369
SEQUENCE:3
DTSTAMP:20260421T062527Z
URL:https://andrewstx-gzcms.preview.gochambermaster.com/events/details/texas-chamber-of-commerce-week-369
END:VEVENT

END:VCALENDAR
