BEGIN:VCALENDAR
VERSION:2.0
PRODID:-//ChamberMaster//Event Calendar 2.0//EN
METHOD:PUBLISH
X-PUBLISHED-TTL:P3D
REFRESH-INTERVAL:P3D
CALSCALE:GREGORIAN
BEGIN:VEVENT
DTSTART;VALUE=DATE:20181031
DTEND;VALUE=DATE:20181101
TRANSP:TRANSPARENT
X-MICROSOFT-CDO-ALLDAYEVENT:TRUE
SUMMARY:Safe Spot Trick or Treat & Halloween Carnival
DESCRIPTION:Click Here Safe Spot Trick or Treat & Halloween Carnival
X-ALT-DESC;FMTTYPE=text/html:<a href="https://chambermaster.blob.core.windows.net/userfiles/UserFiles/chambers/1898/File/safe-spot-flat.jpg">Click Here</a> Safe Spot Trick or Treat &amp\; Halloween Carnival
LOCATION:Andrews County Expo (Ace Arena)
UID:e.1898.275
SEQUENCE:3
DTSTAMP:20260426T033554Z
URL:https://andrewstx-gzcms.preview.gochambermaster.com/events/details/safe-spot-trick-or-treat-halloween-carnival-275
END:VEVENT

END:VCALENDAR
