BEGIN:VCALENDAR
VERSION:2.0
PRODID:-//ChamberMaster//Event Calendar 2.0//EN
METHOD:PUBLISH
X-PUBLISHED-TTL:P3D
REFRESH-INTERVAL:P3D
CALSCALE:GREGORIAN
BEGIN:VEVENT
DTSTART;VALUE=DATE:20220606
DTEND;VALUE=DATE:20220611
TRANSP:TRANSPARENT
X-MICROSOFT-CDO-ALLDAYEVENT:TRUE
SUMMARY:First Baptist Church Vacation Bible School
DESCRIPTION:VBS is an amazing week of frenzied activity all over our campus. This year kids who have completed Kindergarten-6th grade will have fun learning how God created each of us uniquely but all for the same purpose of showing God's love and telling His story. VBS is from 8:30 a.m. until Noon Monday through Friday.
X-ALT-DESC;FMTTYPE=text/html:<span style="color: rgb(0\, 0\, 0)\; font-family: Lato\, sans-serif\; font-size: 16px\;">VBS is an amazing week of frenzied activity all over our campus. This year kids who have completed Kindergarten-6th grade will have fun learning how God created each of us uniquely but all for the same purpose of showing God&rsquo\;s love and telling His story. VBS is from 8:30 a.m. until Noon Monday through Friday.</span>
LOCATION:
UID:e.1898.349
SEQUENCE:3
DTSTAMP:20260421T145104Z
URL:https://andrewstx-gzcms.preview.gochambermaster.com/events/details/first-baptist-church-vacation-bible-school-349
END:VEVENT

END:VCALENDAR
