BEGIN:VCALENDAR
VERSION:2.0
PRODID:-//ChamberMaster//Event Calendar 2.0//EN
METHOD:PUBLISH
X-PUBLISHED-TTL:P3D
REFRESH-INTERVAL:P3D
CALSCALE:GREGORIAN
BEGIN:VEVENT
DTSTART:20211030T233000Z
DTEND:20211031T013000Z
X-MICROSOFT-CDO-ALLDAYEVENT:FALSE
SUMMARY:Drive-Thru Trunk or Treat
DESCRIPTION:In place of the Annual Safespot\, the BOD would like to continue the Trunk or Treat that was held this last year (2020) and do it again this year! Please join us! All you have to do is drive your car down commerce dr. at 6:30pm and the candy will come to you!
X-ALT-DESC;FMTTYPE=text/html:In place of the Annual Safespot\, the BOD would like to continue the Trunk or Treat that was held this last year (2020) and do it again this year! Please join us! All you have to do is drive your car down commerce dr. at 6:30pm and the candy will come to you!
LOCATION:Commerce Dr. Line will start on SW mustang and you will exit north onto s. main.
UID:e.1898.329
SEQUENCE:3
DTSTAMP:20260422T190912Z
URL:https://andrewstx-gzcms.preview.gochambermaster.com/events/details/drive-thru-trunk-or-treat-329
END:VEVENT

END:VCALENDAR
