BEGIN:VCALENDAR
VERSION:2.0
PRODID:-//ChamberMaster//Event Calendar 2.0//EN
METHOD:PUBLISH
X-PUBLISHED-TTL:P3D
REFRESH-INTERVAL:P3D
CALSCALE:GREGORIAN
BEGIN:VEVENT
DTSTART:20200209T010000Z
DTEND:20200209T050000Z
X-MICROSOFT-CDO-ALLDAYEVENT:FALSE
SUMMARY:67th Annual Chamber Banquet
DESCRIPTION:We welcome you to the 67th Annual Chamber Banquet presenting WADE BOWEN...dinner and Dance tickets available. Contact the Andrews Chamber of Commerce for more information at 432 523 2695.
X-ALT-DESC;FMTTYPE=text/html:We welcome you to the 67th Annual Chamber Banquet presenting WADE BOWEN...dinner and Dance tickets available. Contact the Andrews Chamber of Commerce for more information at 432 523 2695.
LOCATION:Andrews Expo Arena(ACE arena) 1441 East HWY176 Andrews\, TX 79714
UID:e.1898.317
SEQUENCE:3
DTSTAMP:20260425T000650Z
URL:https://andrewstx-gzcms.preview.gochambermaster.com/events/details/67th-annual-chamber-banquet-317
END:VEVENT

END:VCALENDAR
